BEGIN:VCALENDAR
VERSION:2.0
PRODID:-// - ECPv6.15.20//NONSGML v1.0//EN
CALSCALE:GREGORIAN
METHOD:PUBLISH
X-ORIGINAL-URL:https://mardigraves.org
X-WR-CALDESC:Évènements pour 
REFRESH-INTERVAL;VALUE=DURATION:PT1H
X-Robots-Tag:noindex
X-PUBLISHED-TTL:PT1H
BEGIN:VTIMEZONE
TZID:Europe/Paris
BEGIN:DAYLIGHT
TZOFFSETFROM:+0100
TZOFFSETTO:+0200
TZNAME:CEST
DTSTART:20260329T010000
END:DAYLIGHT
BEGIN:STANDARD
TZOFFSETFROM:+0200
TZOFFSETTO:+0100
TZNAME:CET
DTSTART:20261025T010000
END:STANDARD
BEGIN:DAYLIGHT
TZOFFSETFROM:+0100
TZOFFSETTO:+0200
TZNAME:CEST
DTSTART:20270328T010000
END:DAYLIGHT
BEGIN:STANDARD
TZOFFSETFROM:+0200
TZOFFSETTO:+0100
TZNAME:CET
DTSTART:20271031T010000
END:STANDARD
BEGIN:DAYLIGHT
TZOFFSETFROM:+0100
TZOFFSETTO:+0200
TZNAME:CEST
DTSTART:20280326T010000
END:DAYLIGHT
BEGIN:STANDARD
TZOFFSETFROM:+0200
TZOFFSETTO:+0100
TZNAME:CET
DTSTART:20281029T010000
END:STANDARD
END:VTIMEZONE
BEGIN:VEVENT
DTSTART;TZID=Europe/Paris:20270206T000000
DTEND;TZID=Europe/Paris:20270207T235959
DTSTAMP:20260425T124329
CREATED:20260226T210903Z
LAST-MODIFIED:20260316T151017Z
UID:4273-1801872000-1802044799@mardigraves.org
SUMMARY:Rendez-vous pour le festival 2027 !
DESCRIPTION:Après une magnifique édition 2026\, nous vous attendons nombreux en 2027.
URL:https://mardigraves.org/event/rendez-vous-pour-le-festival-2027/
LOCATION:Chai du Terral\, 1 allée Joseph Cambon\, Saint-Jean-de-Védas\, France
ATTACH;FMTTYPE=image/jpeg:https://mardigraves.org/wp-content/uploads/2026/02/Boys-band-e1772140106129.jpeg
END:VEVENT
BEGIN:VEVENT
DTSTART;TZID=Europe/Paris:20270206T000000
DTEND;TZID=Europe/Paris:20270207T235959
DTSTAMP:20260425T124329
CREATED:20260226T211637Z
LAST-MODIFIED:20260316T150903Z
UID:4276-1801872000-1802044799@mardigraves.org
SUMMARY:Rendez-vous pour le festival 2027
DESCRIPTION:Après une magnifique édition 2026\, nous vous attendons nombreux en 2027.
URL:https://mardigraves.org/event/rendez-vous-pour-le-festival-2027-2/
LOCATION:Chai du Terral\, 1 allée Joseph Cambon\, Saint-Jean-de-Védas\, France
ATTACH;FMTTYPE=image/jpeg:https://mardigraves.org/wp-content/uploads/2026/02/Mediatheque-e1772140328209.jpeg
END:VEVENT
BEGIN:VEVENT
DTSTART;TZID=Europe/Paris:20270206T000000
DTEND;TZID=Europe/Paris:20270207T235959
DTSTAMP:20260425T124329
CREATED:20260226T212417Z
LAST-MODIFIED:20260316T150938Z
UID:4279-1801872000-1802044799@mardigraves.org
SUMMARY:Rendez-vous pour le festival 2027 !
DESCRIPTION:Après une magnifique édition 2026\, nous vous attendons nombreux en 2027.
URL:https://mardigraves.org/event/rendez-vous-pour-le-festival-2027-3/
LOCATION:Chai du Terral\, 1 allée Joseph Cambon\, Saint-Jean-de-Védas\, France
ATTACH;FMTTYPE=image/jpeg:https://mardigraves.org/wp-content/uploads/2026/02/Mardi-Graves-ecole-Saint-Jean-e1772141415769.jpeg
END:VEVENT
END:VCALENDAR